BEGIN:VCALENDAR
VERSION:2.0
PRODID:-//culturevalais.ch-1777114316//NONSGML kigkonsult.se iCalcreator 2.41.92//
CALSCALE:GREGORIAN
METHOD:PUBLISH
UID:62366232-6337-4164-b730-636438346162
X-WR-CALNAME:Walliser Kultur Agenda
X-WR-TIMEZONE:Europe/Zurich
BEGIN:VTIMEZONE
TZID:Europe/Zurich
TZUNTIL:20240331T010000Z
BEGIN:STANDARD
TZNAME:CET
DTSTART:20211031T030000
TZOFFSETFROM:+0200
TZOFFSETTO:+0100
RDATE:20221030T030000
RDATE:20231029T030000
END:STANDARD
BEGIN:DAYLIGHT
TZNAME:CEST
DTSTART:20220327T020000
TZOFFSETFROM:+0100
TZOFFSETTO:+0200
RDATE:20230326T020000
END:DAYLIGHT
END:VTIMEZONE
BEGIN:VEVENT
UID:31396136-6238-4230-b735-353432613437
DTSTAMP:20260425T105156Z
CLASS:PUBLIC
DESCRIPTION:Avec la participation de Hélène Joye-Cagnard\, Service de la Cu
 lture de l’Etat du Valais – Fred Mudry et Maxime Barman\, pour le projet «
  audio » des Jeunes rencontres – Marion Dil\, Compagnie ADN Dialect et Dra
 gos Tara\, projet Inizio\, Oseo Vaud
DTSTART;TZID=Europe/Zurich:20220429T163000
DTEND:20220429T183000
GEO:+46.25211;+6.950516
LOCATION:Théâtre du Crochetan\, Av. du Théâtre\, Monthey
SEQUENCE:1
SUMMARY:Festival des Jeunes Rencontres - Table Ronde
TRANSP:TRANSPARENT
URL:https://agenda.culturevalais.ch/de/course/show/1251
END:VEVENT
END:VCALENDAR
