BEGIN:VCALENDAR
VERSION:2.0
PRODID:-//culturevalais.ch-1776687099//NONSGML kigkonsult.se iCalcreator 2.41.92//
CALSCALE:GREGORIAN
METHOD:PUBLISH
UID:31663137-3962-4838-b962-656436326665
X-WR-CALNAME:Walliser Kultur Agenda
X-WR-TIMEZONE:Europe/Zurich
BEGIN:VTIMEZONE
TZID:Europe/Zurich
TZUNTIL:20161030T010000Z
BEGIN:STANDARD
TZNAME:CET
DTSTART:20141026T030000
TZOFFSETFROM:+0200
TZOFFSETTO:+0100
RDATE:20151025T030000
END:STANDARD
BEGIN:DAYLIGHT
TZNAME:CEST
DTSTART:20140330T020000
TZOFFSETFROM:+0100
TZOFFSETTO:+0200
RDATE:20150329T020000
RDATE:20160327T020000
END:DAYLIGHT
END:VTIMEZONE
BEGIN:VEVENT
UID:35313564-3166-4639-b039-666635373762
DTSTAMP:20260420T121139Z
CLASS:PUBLIC
DESCRIPTION:Le cours commencera par une introduction générale au droit suis
 se\, à la propriété intellectuelle et au droit des contrats. Nous évoquero
 ns et détaillerons ensuite ensemble les principaux contrats dans le domain
 e culturel et numérique (licence\, synchronisation\, édition\, management\
 , agence\, conditions générales\, politique de confidentialité). \n\nLe bu
 t du cours est de fournir aux participants des clés de lecture et d’interp
 rétation des contrats et de leur donner certains réflexes utiles dans leur
  pratique quotidienne.
DTSTART;TZID=Europe/Zurich:20150228T090000
DTEND:20150228T120000
GEO:+46.233086;+7.358619
LOCATION:Espace Porte de Conthey\, Rue de Conthey 20\, Sion
SEQUENCE:1
SUMMARY:Droit dans le domaine culturel et numérique
TRANSP:TRANSPARENT
URL:https://agenda.culturevalais.ch/de/course/show/146
END:VEVENT
END:VCALENDAR
