BEGIN:VCALENDAR
VERSION:2.0
PRODID:-//culturevalais.ch-1777154427//NONSGML kigkonsult.se iCalcreator 2.41.92//
CALSCALE:GREGORIAN
METHOD:PUBLISH
UID:62386266-6365-4735-a531-353436633335
X-WR-CALNAME:Walliser Kultur Agenda
X-WR-TIMEZONE:Europe/Zurich
BEGIN:VTIMEZONE
TZID:Europe/Zurich
TZUNTIL:20250330T010000Z
BEGIN:STANDARD
TZNAME:CET
DTSTART:20221030T030000
TZOFFSETFROM:+0200
TZOFFSETTO:+0100
RDATE:20231029T030000
RDATE:20241027T030000
END:STANDARD
BEGIN:DAYLIGHT
TZNAME:CEST
DTSTART:20230326T020000
TZOFFSETFROM:+0100
TZOFFSETTO:+0200
RDATE:20240331T020000
END:DAYLIGHT
END:VTIMEZONE
BEGIN:VEVENT
UID:38386363-3034-4539-b164-373963366561
DTSTAMP:20260425T220027Z
CLASS:PUBLIC
DESCRIPTION:Klarinettenorchester\nfür (erfahrene) Amateurklarinettist*innen
  sowie begeisterte Profis\n\n \n\nMusizieren mit Gleichgesinnten\nmit alle
 n Instrumenten der Klarinettenfamilie\nvon der Eb-Klarinette bis zur Kontr
 abassklarinette\n\nTipps und Tricks rund um die Klarinette\n\nMarco Santil
 li erstellt exklusiv auf die Gruppe abgestimmte Arrangements\n\nSehr abwec
 hslungreiches Repertoire\, mit Hang zu groovigen Kompositionen\n\nDie Note
 n werden im Voraus verschickt und sollten vorbereitet werden\n\nZielpublik
 um\n\nErfahrene Amateur–Klarinettist*innen sowie begeisterte Profis\nDer K
 urs wird von der Swiss Clarinet Society finanziell unterstützt.
DTSTART;TZID=Europe/Zurich:20230721T090000
DTEND:20230721T170000
GEO:+46.466461;+8.234256
LOCATION:Mehrzweckhalle Gluringen\, Furkastrasse 29\,\, Gluringen
SEQUENCE:1
SUMMARY:GOMMER MUSIKFERIEN
TRANSP:TRANSPARENT
URL:https://agenda.culturevalais.ch/de/course/show/1460
END:VEVENT
END:VCALENDAR
