BEGIN:VCALENDAR
VERSION:2.0
PRODID:-//culturevalais.ch-1777005815//NONSGML kigkonsult.se iCalcreator 2.41.92//
CALSCALE:GREGORIAN
METHOD:PUBLISH
UID:38613465-3738-4338-b966-643535343432
X-WR-CALNAME:Walliser Kultur Agenda
X-WR-TIMEZONE:Europe/Zurich
BEGIN:VTIMEZONE
TZID:Europe/Zurich
TZUNTIL:20251026T010000Z
BEGIN:STANDARD
TZNAME:CET
DTSTART:20221030T030000
TZOFFSETFROM:+0200
TZOFFSETTO:+0100
RDATE:20231029T030000
RDATE:20241027T030000
END:STANDARD
BEGIN:DAYLIGHT
TZNAME:CEST
DTSTART:20230326T020000
TZOFFSETFROM:+0100
TZOFFSETTO:+0200
RDATE:20240331T020000
RDATE:20250330T020000
END:DAYLIGHT
END:VTIMEZONE
BEGIN:VEVENT
UID:34306462-3036-4238-a131-323565636139
DTSTAMP:20260424T044335Z
CLASS:PUBLIC
DESCRIPTION:Atelier d’écriture créative : les sentiers du deuil\n\nComment 
 écrire sur un sujet aussi intime\, délicat et tabou que la mort ? Romancie
 r et poète\, Guillaume Favre vous invite à cheminer sur les sentiers du de
 uil à la lumière des mots. Son dernier recueil « Greg ou rien » est un req
 uiem enflammé et polyphonique en hommage à un frère perdu. À partir d’un p
 oème de Giuseppe Ungaretti qu’il cite dans son ouvrage\, l’auteur vous pro
 pose d’explorer\, en prose ou en vers libre (comme cela vous vient)\, l’éc
 riture de soi. L’occasion de réfléchir sur les frontières poreuses entre l
 e réel et la fiction\, la poésie et le récit\, l’intime et l’universel.
DTSTART;TZID=Europe/Zurich:20231012T193000
DTEND:20231012T220000
GEO:+48.834927;+2.32069
LOCATION:Maison des écrivaines\, des écrivains et des littératures\, Rue du
  château 7\, Monthey
SEQUENCE:1
SUMMARY:Ateliers du jeudi – écriture de l’intime
TRANSP:TRANSPARENT
URL:https://agenda.culturevalais.ch/de/course/show/1553
END:VEVENT
END:VCALENDAR
