BEGIN:VCALENDAR
VERSION:2.0
PRODID:-//culturevalais.ch-1776612232//NONSGML kigkonsult.se iCalcreator 2.41.92//
CALSCALE:GREGORIAN
METHOD:PUBLISH
UID:37653262-6630-4561-a133-616433366263
X-WR-CALNAME:Walliser Kultur Agenda
X-WR-TIMEZONE:Europe/Zurich
BEGIN:VTIMEZONE
TZID:Europe/Zurich
TZUNTIL:20251026T010000Z
BEGIN:STANDARD
TZNAME:CET
DTSTART:20231029T030000
TZOFFSETFROM:+0200
TZOFFSETTO:+0100
RDATE:20241027T030000
END:STANDARD
BEGIN:DAYLIGHT
TZNAME:CEST
DTSTART:20230326T020000
TZOFFSETFROM:+0100
TZOFFSETTO:+0200
RDATE:20240331T020000
RDATE:20250330T020000
END:DAYLIGHT
END:VTIMEZONE
BEGIN:VEVENT
UID:38376164-3831-4831-b134-303363356161
DTSTAMP:20260419T152352Z
CLASS:PUBLIC
DESCRIPTION:Que faire de vos photos ?\n\nStocker les photos prises avec vot
 re téléphone ? Les classer ? Les retoucher ? Les imprimer ?\n\nCet atelier
  a pour but de vous donner des pistes pour conserver et exploiter vos phot
 os.\nPour Iphone et Android.\n\nAtelier animé par Bledar Ramaj\, photograp
 he indépendant basé à Monthey.\n\nGratuit\, sur inscription (min.2 personn
 es - max.6)
DTSTART;TZID=Europe/Zurich:20231104T133000
DTEND:20231104T160000
GEO:+46.216614;+7.004302
LOCATION:Médiathèque Valais - St-Maurice\, Avenue du Simplon 6\, St-Maurice
SEQUENCE:1
SUMMARY:Atelier photos
TRANSP:TRANSPARENT
URL:https://agenda.culturevalais.ch/de/course/show/1564
END:VEVENT
END:VCALENDAR
