BEGIN:VCALENDAR
VERSION:2.0
PRODID:-//culturevalais.ch-1777047503//NONSGML kigkonsult.se iCalcreator 2.41.92//
CALSCALE:GREGORIAN
METHOD:PUBLISH
UID:38626539-3638-4764-b137-396432313030
X-WR-CALNAME:Walliser Kultur Agenda
X-WR-TIMEZONE:Europe/Zurich
BEGIN:VTIMEZONE
TZID:Europe/Zurich
TZUNTIL:20251026T010000Z
BEGIN:STANDARD
TZNAME:CET
DTSTART:20231029T030000
TZOFFSETFROM:+0200
TZOFFSETTO:+0100
RDATE:20241027T030000
END:STANDARD
BEGIN:DAYLIGHT
TZNAME:CEST
DTSTART:20230326T020000
TZOFFSETFROM:+0100
TZOFFSETTO:+0200
RDATE:20240331T020000
RDATE:20250330T020000
END:DAYLIGHT
END:VTIMEZONE
BEGIN:VEVENT
UID:61636333-6564-4133-a263-663334386432
DTSTAMP:20260424T161823Z
CLASS:PUBLIC
DESCRIPTION:Mettez un valeur une photo de votre choix dans un cadre adapté 
 à votre thématique\, sous la houlette de deux spécialistes du scrapbooking
 .\n\nUne jolie idée de cadeau à offrir pour Noël... ou à garder pour soi !
 \n\nAtelier en duo adulte - enfant (dès 6 ans)\n\nEn collaboration avec Ru
 e des Arts\, magasin de loisirs créatifs\, à Monthey.\n\nGratuit\, sur ins
 cription (max. 10 duos)\, prendre une photo 9 x 13
DTSTART;TZID=Europe/Zurich:20231202T140000
DTEND:20231202T160000
GEO:+46.216614;+7.004302
LOCATION:Médiathèque Valais - St-Maurice\, Avenue du Simplon 6\, St-Maurice
SEQUENCE:1
SUMMARY:Atelier scrapbooking
TRANSP:TRANSPARENT
URL:https://agenda.culturevalais.ch/de/course/show/1567
END:VEVENT
END:VCALENDAR
