BEGIN:VCALENDAR
VERSION:2.0
PRODID:-//culturevalais.ch-1776685835//NONSGML kigkonsult.se iCalcreator 2.41.92//
CALSCALE:GREGORIAN
METHOD:PUBLISH
UID:34343034-3562-4264-b236-653537373533
X-WR-CALNAME:Walliser Kultur Agenda
X-WR-TIMEZONE:Europe/Zurich
BEGIN:VTIMEZONE
TZID:Europe/Zurich
TZUNTIL:20250330T010000Z
BEGIN:STANDARD
TZNAME:CET
DTSTART:20221030T030000
TZOFFSETFROM:+0200
TZOFFSETTO:+0100
RDATE:20231029T030000
RDATE:20241027T030000
END:STANDARD
BEGIN:DAYLIGHT
TZNAME:CEST
DTSTART:20230326T020000
TZOFFSETFROM:+0100
TZOFFSETTO:+0200
RDATE:20240331T020000
END:DAYLIGHT
END:VTIMEZONE
BEGIN:VEVENT
UID:64303037-6236-4665-a565-396435373963
DTSTAMP:20260420T115035Z
CLASS:PUBLIC
DESCRIPTION:Vous avez un projet d’écriture ou vous souhaitez démarrer un te
 l projet. Cet atelier construit sur 4 soirées a pour but de vous permettre
  la mise en place de votre texte en déterminant notamment le type d’écrit\
 , le style de narration\, le choix des temps.\n\nAvec une partie théorique
  suivie d’exercices pratiques\, le but est de vous permettre de poser les 
 bases de votre travail afin de pouvoir vous appuyer sur une armature solid
 e.
DTSTART;TZID=Europe/Zurich:20230927T193000
DTEND:20230927T214500
GEO:+46.252415;+6.945971
LOCATION:Maison des écrivaines\, des écrivains et des littératures\, Rue du
  château 7\, Monthey
SEQUENCE:1
SUMMARY:Atelier technique 1er module: mettre en route mon projet
TRANSP:TRANSPARENT
URL:https://agenda.culturevalais.ch/de/course/show/1587
END:VEVENT
END:VCALENDAR
