BEGIN:VCALENDAR
VERSION:2.0
PRODID:-//culturevalais.ch-1776869603//NONSGML kigkonsult.se iCalcreator 2.41.92//
CALSCALE:GREGORIAN
METHOD:PUBLISH
UID:65306635-3761-4135-b138-653864366632
X-WR-CALNAME:Walliser Kultur Agenda
X-WR-TIMEZONE:Europe/Zurich
BEGIN:VTIMEZONE
TZID:Europe/Zurich
TZUNTIL:20270328T010000Z
BEGIN:STANDARD
TZNAME:CET
DTSTART:20241027T030000
TZOFFSETFROM:+0200
TZOFFSETTO:+0100
RDATE:20251026T030000
RDATE:20261025T030000
END:STANDARD
BEGIN:DAYLIGHT
TZNAME:CEST
DTSTART:20250330T020000
TZOFFSETFROM:+0100
TZOFFSETTO:+0200
RDATE:20260329T020000
END:DAYLIGHT
END:VTIMEZONE
BEGIN:VEVENT
UID:33366632-3564-4164-b035-643666663166
DTSTAMP:20260422T145323Z
CLASS:PUBLIC
DESCRIPTION:Viens chanter\, t’amuser et pratiquer le théâtre en musique ave
 c la compagnie de l’Ovale !
DTSTART;TZID=Europe/Zurich:20250425T093000
DTEND:20250425T140000
GEO:+46.255161;+6.954766
LOCATION:La Gare\, arts et jeunesse\, Salle de la Gare\, Avenue de la Gare 
 60\, Monthey
SEQUENCE:1
SUMMARY:Théâtre et musique
TRANSP:TRANSPARENT
URL:https://agenda.culturevalais.ch/de/course/show/1813
END:VEVENT
END:VCALENDAR
