BEGIN:VCALENDAR
VERSION:2.0
PRODID:-//culturevalais.ch-1776618247//NONSGML kigkonsult.se iCalcreator 2.41.92//
CALSCALE:GREGORIAN
METHOD:PUBLISH
UID:61363363-6236-4832-a235-366461306566
X-WR-CALNAME:Walliser Kultur Agenda
X-WR-TIMEZONE:Europe/Zurich
BEGIN:VTIMEZONE
TZID:Europe/Zurich
TZUNTIL:20270328T010000Z
BEGIN:STANDARD
TZNAME:CET
DTSTART:20241027T030000
TZOFFSETFROM:+0200
TZOFFSETTO:+0100
RDATE:20251026T030000
RDATE:20261025T030000
END:STANDARD
BEGIN:DAYLIGHT
TZNAME:CEST
DTSTART:20250330T020000
TZOFFSETFROM:+0100
TZOFFSETTO:+0200
RDATE:20260329T020000
END:DAYLIGHT
END:VTIMEZONE
BEGIN:VEVENT
UID:35363262-3232-4161-b332-303161636462
DTSTAMP:20260419T170407Z
CLASS:PUBLIC
DESCRIPTION:Deux jours pour aborder différentes facettes du jeu théâtral\, 
 en mettant en avant l’imaginaire et la créativité ! Enfile une tenue confo
 rtable\, apporte ton pique-nique et pousse la porte du théâtre !
DTSTART;TZID=Europe/Zurich:20250623T093000
DTEND:20250623T140000
GEO:+46.255161;+6.954766
LOCATION:La Gare\, arts et jeunesse\, Salle de la Gare\, Avenue de la Gare 
 60\, Monthey
SEQUENCE:1
SUMMARY:Stage de théâtre
TRANSP:TRANSPARENT
URL:https://agenda.culturevalais.ch/de/course/show/1833
END:VEVENT
END:VCALENDAR
