BEGIN:VCALENDAR
VERSION:2.0
PRODID:-//culturevalais.ch-1776601912//NONSGML kigkonsult.se iCalcreator 2.41.92//
CALSCALE:GREGORIAN
METHOD:PUBLISH
UID:33316563-3265-4034-b061-343436356664
X-WR-CALNAME:Walliser Kultur Agenda
X-WR-TIMEZONE:Europe/Zurich
BEGIN:VTIMEZONE
TZID:Europe/Zurich
TZUNTIL:20260329T010000Z
BEGIN:STANDARD
TZNAME:CET
DTSTART:20231029T030000
TZOFFSETFROM:+0200
TZOFFSETTO:+0100
RDATE:20241027T030000
RDATE:20251026T030000
END:STANDARD
BEGIN:DAYLIGHT
TZNAME:CEST
DTSTART:20240331T020000
TZOFFSETFROM:+0100
TZOFFSETTO:+0200
RDATE:20250330T020000
END:DAYLIGHT
END:VTIMEZONE
BEGIN:VEVENT
UID:62623261-6461-4237-a464-616335383732
DTSTAMP:20260419T123152Z
CLASS:PUBLIC
DESCRIPTION:Tu as envie de découvrir les coulisses du théâtre et ses secret
 s\, de jouer aux journalistes dans des pays imaginaires\, tu te demandes c
 omment fonctionne les micros\, la radio ?
DTSTART;TZID=Europe/Zurich:20240914T100000
DTEND:20240914T160000
GEO:+46.255161;+6.954766
LOCATION:La Gare\, arts et jeunesse\, Salle de la Gare\, Avenue de la Gare 
 60\, Monthey
SEQUENCE:1
SUMMARY:Radio Gare
TRANSP:TRANSPARENT
URL:https://agenda.culturevalais.ch/de/course/show/1834
END:VEVENT
END:VCALENDAR
