BEGIN:VCALENDAR
VERSION:2.0
PRODID:-//culturevalais.ch-1776802562//NONSGML kigkonsult.se iCalcreator 2.41.92//
CALSCALE:GREGORIAN
METHOD:PUBLISH
UID:38306434-3437-4261-b065-366535633032
X-WR-CALNAME:Walliser Kultur Agenda
X-WR-TIMEZONE:Europe/Zurich
BEGIN:VTIMEZONE
TZID:Europe/Zurich
TZUNTIL:20261025T010000Z
BEGIN:STANDARD
TZNAME:CET
DTSTART:20241027T030000
TZOFFSETFROM:+0200
TZOFFSETTO:+0100
RDATE:20251026T030000
END:STANDARD
BEGIN:DAYLIGHT
TZNAME:CEST
DTSTART:20250330T020000
TZOFFSETFROM:+0100
TZOFFSETTO:+0200
RDATE:20260329T020000
END:DAYLIGHT
END:VTIMEZONE
BEGIN:VEVENT
UID:34313639-3062-4539-b836-353365393232
DTSTAMP:20260421T201602Z
CLASS:PUBLIC
DESCRIPTION:Cet Atelier de formation accessible à tous a pour objectif de v
 ous offrir un temps de création agréable et ancré dans le moment présent.
DTSTART;TZID=Europe/Zurich:20250412T100000
DTEND:20250412T163000
GEO:+46.287422;+7.551279
LOCATION:Atelier-Galerie la Zîle falcon\, rue de l'île Falcon 27\, Sierre
SEQUENCE:1
SUMMARY:Atelier céramique contemporaine et cuisson raku
TRANSP:TRANSPARENT
URL:https://agenda.culturevalais.ch/de/course/show/1967
END:VEVENT
END:VCALENDAR
