BEGIN:VCALENDAR
VERSION:2.0
PRODID:-//culturevalais.ch-1776802426//NONSGML kigkonsult.se iCalcreator 2.41.92//
CALSCALE:GREGORIAN
METHOD:PUBLISH
UID:36653362-3166-4535-b539-363739383033
X-WR-CALNAME:Walliser Kultur Agenda
X-WR-TIMEZONE:Europe/Zurich
BEGIN:VTIMEZONE
TZID:Europe/Zurich
TZUNTIL:20270328T010000Z
BEGIN:STANDARD
TZNAME:CET
DTSTART:20241027T030000
TZOFFSETFROM:+0200
TZOFFSETTO:+0100
RDATE:20251026T030000
RDATE:20261025T030000
END:STANDARD
BEGIN:DAYLIGHT
TZNAME:CEST
DTSTART:20250330T020000
TZOFFSETFROM:+0100
TZOFFSETTO:+0200
RDATE:20260329T020000
END:DAYLIGHT
END:VTIMEZONE
BEGIN:VEVENT
UID:37363431-3639-4036-b766-373637306437
DTSTAMP:20260421T201346Z
CLASS:PUBLIC
DESCRIPTION:Cet Atelier de formation accessible à tous a pour objectif de v
 ous offrir un temps de création agréable et ancré dans le moment présent.
DTSTART;TZID=Europe/Zurich:20250426T100000
DTEND:20250426T160000
GEO:+46.287422;+7.551279
LOCATION:Atelier-Galerie la Zîle falcon\, rue de l'île Falcon 27\, Sierre
SEQUENCE:1
SUMMARY:Atelier céramique contemporaine et cuisson raku
TRANSP:TRANSPARENT
URL:https://agenda.culturevalais.ch/de/course/show/1967
END:VEVENT
END:VCALENDAR
