BEGIN:VCALENDAR
VERSION:2.0
PRODID:-//culturevalais.ch-1777000753//NONSGML kigkonsult.se iCalcreator 2.41.92//
CALSCALE:GREGORIAN
METHOD:PUBLISH
UID:37356538-3837-4936-b532-306565333338
X-WR-CALNAME:Walliser Kultur Agenda
X-WR-TIMEZONE:Europe/Zurich
BEGIN:VTIMEZONE
TZID:Europe/Zurich
TZUNTIL:20280326T010000Z
BEGIN:STANDARD
TZNAME:CET
DTSTART:20251026T030000
TZOFFSETFROM:+0200
TZOFFSETTO:+0100
RDATE:20261025T030000
RDATE:20271031T030000
END:STANDARD
BEGIN:DAYLIGHT
TZNAME:CEST
DTSTART:20260329T020000
TZOFFSETFROM:+0100
TZOFFSETTO:+0200
RDATE:20270328T020000
END:DAYLIGHT
END:VTIMEZONE
BEGIN:VEVENT
UID:39333632-3038-4435-b734-626464636238
DTSTAMP:20260424T031913Z
CLASS:PUBLIC
DESCRIPTION:Willst du Schauspieler werden?
DTSTART;TZID=Europe/Zurich:20260513T133000
DTEND:20260513T170000
GEO:+46.290909;+7.883444
LOCATION:Theater La Poste\, La Poste-Platz 4\, Visp
SEQUENCE:1
SUMMARY:Theater Workshop
TRANSP:TRANSPARENT
URL:https://agenda.culturevalais.ch/de/course/show/2148
END:VEVENT
END:VCALENDAR
