BEGIN:VCALENDAR
VERSION:2.0
PRODID:-//culturevalais.ch-1776669221//NONSGML kigkonsult.se iCalcreator 2.41.92//
CALSCALE:GREGORIAN
METHOD:PUBLISH
UID:37396532-6364-4533-b931-356436303130
X-WR-CALNAME:Walliser Kultur Agenda
X-WR-TIMEZONE:Europe/Zurich
BEGIN:VTIMEZONE
TZID:Europe/Zurich
TZUNTIL:20271031T010000Z
BEGIN:STANDARD
TZNAME:CET
DTSTART:20251026T030000
TZOFFSETFROM:+0200
TZOFFSETTO:+0100
RDATE:20261025T030000
END:STANDARD
BEGIN:DAYLIGHT
TZNAME:CEST
DTSTART:20250330T020000
TZOFFSETFROM:+0100
TZOFFSETTO:+0200
RDATE:20260329T020000
RDATE:20270328T020000
END:DAYLIGHT
END:VTIMEZONE
BEGIN:VEVENT
UID:33396265-6530-4262-b331-653561356661
DTSTAMP:20260420T071341Z
CLASS:PUBLIC
DESCRIPTION:Une fois par mois\, un espace-temps pour revenir au corps !\n\n
DTSTART;TZID=Europe/Zurich:20260205T190000
DTEND:20260205T201500
GEO:+46.196812;+7.021396
LOCATION:Espace Parallèle\, la Cime\, Route Cantonale 5\, Saint-Maurice
SEQUENCE:1
SUMMARY:Danse improvisée
TRANSP:TRANSPARENT
URL:https://agenda.culturevalais.ch/de/course/show/2185
END:VEVENT
END:VCALENDAR
