BEGIN:VCALENDAR
VERSION:2.0
PRODID:-//culturevalais.ch-1777114276//NONSGML kigkonsult.se iCalcreator 2.41.92//
CALSCALE:GREGORIAN
METHOD:PUBLISH
UID:65303531-6637-4131-a132-346265303862
X-WR-CALNAME:Walliser Kultur Agenda
X-WR-TIMEZONE:Europe/Zurich
BEGIN:VTIMEZONE
TZID:Europe/Zurich
TZUNTIL:20271031T010000Z
BEGIN:STANDARD
TZNAME:CET
DTSTART:20251026T030000
TZOFFSETFROM:+0200
TZOFFSETTO:+0100
RDATE:20261025T030000
END:STANDARD
BEGIN:DAYLIGHT
TZNAME:CEST
DTSTART:20250330T020000
TZOFFSETFROM:+0100
TZOFFSETTO:+0200
RDATE:20260329T020000
RDATE:20270328T020000
END:DAYLIGHT
END:VTIMEZONE
BEGIN:VEVENT
UID:64326563-3762-4634-b461-353264353562
DTSTAMP:20260425T105116Z
CLASS:PUBLIC
DESCRIPTION:Ecrire la vie et vivre l'écrit. Exprimer à sa manière un peu de
  soi et de ce qui nous entoure. Partager et réfléchir ensemble à la trace 
 de l'écrit dans notre quotidien.
DTSTART;TZID=Europe/Zurich:20260205T190000
DTEND:20260205T210000
GEO:+46.196812;+7.021396
LOCATION:Espace Parallèle\, Salle Parallèle\, Route Cantonale 5\, Saint-Mau
 rice
SEQUENCE:1
SUMMARY:Ecriture en liberté
TRANSP:TRANSPARENT
URL:https://agenda.culturevalais.ch/de/course/show/2186
END:VEVENT
END:VCALENDAR
