BEGIN:VCALENDAR
VERSION:2.0
PRODID:-//culturevalais.ch-1776765382//NONSGML kigkonsult.se iCalcreator 2.41.92//
CALSCALE:GREGORIAN
METHOD:PUBLISH
UID:63346662-6561-4339-b736-646433613065
X-WR-CALNAME:Walliser Kultur Agenda
X-WR-TIMEZONE:Europe/Zurich
BEGIN:VTIMEZONE
TZID:Europe/Zurich
TZUNTIL:20280326T010000Z
BEGIN:STANDARD
TZNAME:CET
DTSTART:20251026T030000
TZOFFSETFROM:+0200
TZOFFSETTO:+0100
RDATE:20261025T030000
RDATE:20271031T030000
END:STANDARD
BEGIN:DAYLIGHT
TZNAME:CEST
DTSTART:20260329T020000
TZOFFSETFROM:+0100
TZOFFSETTO:+0200
RDATE:20270328T020000
END:DAYLIGHT
END:VTIMEZONE
BEGIN:VEVENT
UID:34643065-3863-4635-b262-663565613936
DTSTAMP:20260421T095622Z
CLASS:PUBLIC
DESCRIPTION:Alles\, was du schon immer über Pro Helvetia\, die Schweizer Ku
 lturstiftung\, wissen wolltest\, erfährst du am Mittwoch\, 6. Mai\, währen
 d deiner Mittagspause online
DTSTART;TZID=Europe/Zurich:20260506T121500
DTEND:20260506T130000
LOCATION:
SEQUENCE:1
SUMMARY:Pro Helvetia stellt sich vor
TRANSP:TRANSPARENT
URL:https://agenda.culturevalais.ch/de/course/show/2233
END:VEVENT
END:VCALENDAR
