BEGIN:VCALENDAR
VERSION:2.0
PRODID:-//culturevalais.ch-1776601234//NONSGML kigkonsult.se iCalcreator 2.41.92//
CALSCALE:GREGORIAN
METHOD:PUBLISH
UID:61623831-6465-4364-b234-646533306532
X-WR-CALNAME:Walliser Kultur Agenda
X-WR-TIMEZONE:Europe/Zurich
BEGIN:VTIMEZONE
TZID:Europe/Zurich
TZUNTIL:20280326T010000Z
BEGIN:STANDARD
TZNAME:CET
DTSTART:20251026T030000
TZOFFSETFROM:+0200
TZOFFSETTO:+0100
RDATE:20261025T030000
RDATE:20271031T030000
END:STANDARD
BEGIN:DAYLIGHT
TZNAME:CEST
DTSTART:20260329T020000
TZOFFSETFROM:+0100
TZOFFSETTO:+0200
RDATE:20270328T020000
END:DAYLIGHT
END:VTIMEZONE
BEGIN:VEVENT
UID:64653931-6564-4564-b631-366131643837
DTSTAMP:20260419T122034Z
CLASS:PUBLIC
DESCRIPTION:Weitere Informationen folgen in Kürze
DTSTART;TZID=Europe/Zurich:20260704T000000
DTEND:20260704T000000
GEO:+46.230499;+7.366615
LOCATION:Pollen Festival\, Sion
SEQUENCE:1
SUMMARY:Mölkky Session #5
TRANSP:TRANSPARENT
URL:https://agenda.culturevalais.ch/de/course/show/2235
END:VEVENT
END:VCALENDAR
