BEGIN:VCALENDAR
VERSION:2.0
PRODID:-//culturevalais.ch-1776835682//NONSGML kigkonsult.se iCalcreator 2.41.92//
CALSCALE:GREGORIAN
METHOD:PUBLISH
UID:36616534-6632-4566-b236-623134303765
X-WR-CALNAME:Walliser Kultur Agenda
X-WR-TIMEZONE:Europe/Zurich
BEGIN:VTIMEZONE
TZID:Europe/Zurich
TZUNTIL:20280326T010000Z
BEGIN:STANDARD
TZNAME:CET
DTSTART:20251026T030000
TZOFFSETFROM:+0200
TZOFFSETTO:+0100
RDATE:20261025T030000
RDATE:20271031T030000
END:STANDARD
BEGIN:DAYLIGHT
TZNAME:CEST
DTSTART:20260329T020000
TZOFFSETFROM:+0100
TZOFFSETTO:+0200
RDATE:20270328T020000
END:DAYLIGHT
END:VTIMEZONE
BEGIN:VEVENT
UID:31396166-3566-4463-b235-333133326463
DTSTAMP:20260422T052802Z
CLASS:PUBLIC
DESCRIPTION:L’atelier d’écriture de discours a pour objectif de donner aux 
 participant·e·s des clefs pour l’écriture d’un texte destiné à être délivr
 é lors d’un événement officiel.
DTSTART;TZID=Europe/Zurich:20260508T140000
DTEND:20260508T163000
GEO:+46.252422;+6.945977
LOCATION:MEEL\, Rue du Château 7\, Monthey
SEQUENCE:1
SUMMARY:Les boîtes à outils du vendredi Écriture de discours
TRANSP:TRANSPARENT
URL:https://agenda.culturevalais.ch/de/course/show/2295
END:VEVENT
END:VCALENDAR
