BEGIN:VCALENDAR
VERSION:2.0
PRODID:-//culturevalais.ch-1776847246//NONSGML kigkonsult.se iCalcreator 2.41.92//
CALSCALE:GREGORIAN
METHOD:PUBLISH
UID:61303737-3632-4836-a263-363232306533
X-WR-CALNAME:Walliser Kultur Agenda
X-WR-TIMEZONE:Europe/Zurich
BEGIN:VTIMEZONE
TZID:Europe/Zurich
TZUNTIL:20280326T010000Z
BEGIN:STANDARD
TZNAME:CET
DTSTART:20251026T030000
TZOFFSETFROM:+0200
TZOFFSETTO:+0100
RDATE:20261025T030000
RDATE:20271031T030000
END:STANDARD
BEGIN:DAYLIGHT
TZNAME:CEST
DTSTART:20260329T020000
TZOFFSETFROM:+0100
TZOFFSETTO:+0200
RDATE:20270328T020000
END:DAYLIGHT
END:VTIMEZONE
BEGIN:VEVENT
UID:63613461-3235-4033-a161-373230653335
DTSTAMP:20260422T084046Z
CLASS:PUBLIC
DESCRIPTION:Devenir écrivain·e a également des conséquences juridiques\, fi
 nancières et fiscales. Cet atelier de la boîte à outils du vendredi a pour
  but de vous faire comprendre les enjeux liés à votre statut d’écrivain·e.
DTSTART;TZID=Europe/Zurich:20260612T140000
DTEND:20260612T163000
GEO:+46.252422;+6.945977
LOCATION:MEEL\, Rue du Château 7\, Monthey
SEQUENCE:1
SUMMARY:Les boîtes à outils du vendredi
TRANSP:TRANSPARENT
URL:https://agenda.culturevalais.ch/de/course/show/2296
END:VEVENT
END:VCALENDAR
