BEGIN:VCALENDAR
VERSION:2.0
PRODID:-//culturevalais.ch-1776879718//NONSGML kigkonsult.se iCalcreator 2.41.92//
CALSCALE:GREGORIAN
METHOD:PUBLISH
UID:65373035-6466-4066-a137-383538653861
X-WR-CALNAME:Walliser Kultur Agenda
X-WR-TIMEZONE:Europe/Zurich
BEGIN:VTIMEZONE
TZID:Europe/Zurich
TZUNTIL:20280326T010000Z
BEGIN:STANDARD
TZNAME:CET
DTSTART:20251026T030000
TZOFFSETFROM:+0200
TZOFFSETTO:+0100
RDATE:20261025T030000
RDATE:20271031T030000
END:STANDARD
BEGIN:DAYLIGHT
TZNAME:CEST
DTSTART:20260329T020000
TZOFFSETFROM:+0100
TZOFFSETTO:+0200
RDATE:20270328T020000
END:DAYLIGHT
END:VTIMEZONE
BEGIN:VEVENT
UID:39393663-6634-4539-b732-643839333931
DTSTAMP:20260422T174158Z
CLASS:PUBLIC
DESCRIPTION:Pré-requis : avoir suivit le module 01 dans mon atelier à Sierr
 e. \n
DTSTART;TZID=Europe/Zurich:20260510T100000
DTEND:20260510T160000
GEO:+46.287422;+7.551279
LOCATION:Atelier-galerie de la Zîle\, rue de l'île falcon 27\, Sierre
SEQUENCE:1
SUMMARY:Atelier céramique raku
TRANSP:TRANSPARENT
URL:https://agenda.culturevalais.ch/de/course/show/2326
END:VEVENT
END:VCALENDAR
