BEGIN:VCALENDAR
VERSION:2.0
PRODID:-//culturevalais.ch-1776983767//NONSGML kigkonsult.se iCalcreator 2.41.92//
CALSCALE:GREGORIAN
METHOD:PUBLISH
UID:61653732-6434-4561-b737-313863303364
X-WR-CALNAME:Walliser Kultur Agenda
X-WR-TIMEZONE:Europe/Zurich
BEGIN:VTIMEZONE
TZID:Europe/Zurich
TZUNTIL:20280326T010000Z
BEGIN:STANDARD
TZNAME:CET
DTSTART:20251026T030000
TZOFFSETFROM:+0200
TZOFFSETTO:+0100
RDATE:20261025T030000
RDATE:20271031T030000
END:STANDARD
BEGIN:DAYLIGHT
TZNAME:CEST
DTSTART:20260329T020000
TZOFFSETFROM:+0100
TZOFFSETTO:+0200
RDATE:20270328T020000
END:DAYLIGHT
END:VTIMEZONE
BEGIN:VEVENT
UID:62306664-3934-4563-a431-626361373430
DTSTAMP:20260423T223607Z
CLASS:PUBLIC
DESCRIPTION:Le Petit Bois\, comme vous ne l’avez jamais vu
DTSTART;TZID=Europe/Zurich:20260509T133000
DTEND:20260509T160000
GEO:+46.294743;+7.534288
LOCATION:Bibliothèque-Médiathèque Sierre\, Bibliothèque-Médiathèque Sierre 
 (BMS)\, Rue Notre Dame des Marais 5\, Sierre
SEQUENCE:1
SUMMARY:Carnet nature
TRANSP:TRANSPARENT
URL:https://agenda.culturevalais.ch/de/course/show/2394
END:VEVENT
END:VCALENDAR
