BEGIN:VCALENDAR
VERSION:2.0
PRODID:-//culturevalais.ch-1776819168//NONSGML kigkonsult.se iCalcreator 2.41.92//
CALSCALE:GREGORIAN
METHOD:PUBLISH
UID:35613462-3234-4538-b830-333036326365
X-WR-CALNAME:L'agenda culturel du Valais
X-WR-TIMEZONE:Europe/Zurich
BEGIN:VTIMEZONE
TZID:Europe/Zurich
TZUNTIL:20231029T010000Z
BEGIN:STANDARD
TZNAME:CET
DTSTART:20211031T030000
TZOFFSETFROM:+0200
TZOFFSETTO:+0100
RDATE:20221030T030000
END:STANDARD
BEGIN:DAYLIGHT
TZNAME:CEST
DTSTART:20210328T020000
TZOFFSETFROM:+0100
TZOFFSETTO:+0200
RDATE:20220327T020000
RDATE:20230326T020000
END:DAYLIGHT
END:VTIMEZONE
BEGIN:VEVENT
UID:32393464-6634-4432-b663-363931373266
DTSTAMP:20260422T005248Z
CLASS:PUBLIC
DESCRIPTION:Atelier donné dans le cadre de la nuit des musées et de l'expos
 ition Womanhouse 2021
DTSTART;TZID=Europe/Zurich:20211106T190000
DURATION:PT2H
GEO:+46.101738;+7.071907
LOCATION:Le Manoir de la Ville de Martigny\, 3\, Rue du Manoir\, Martigny
SEQUENCE:1
SUMMARY:Atelier pour enfants avec Maëlle Cornut
TRANSP:TRANSPARENT
URL:https://agenda.culturevalais.ch/fr/course/show/1120
END:VEVENT
END:VCALENDAR
