BEGIN:VCALENDAR
VERSION:2.0
PRODID:-//culturevalais.ch-1776617831//NONSGML kigkonsult.se iCalcreator 2.41.92//
CALSCALE:GREGORIAN
METHOD:PUBLISH
UID:35653063-6264-4961-b434-393437316138
X-WR-CALNAME:L'agenda culturel du Valais
X-WR-TIMEZONE:Europe/Zurich
BEGIN:VTIMEZONE
TZID:Europe/Zurich
TZUNTIL:20241027T010000Z
BEGIN:STANDARD
TZNAME:CET
DTSTART:20221030T030000
TZOFFSETFROM:+0200
TZOFFSETTO:+0100
RDATE:20231029T030000
END:STANDARD
BEGIN:DAYLIGHT
TZNAME:CEST
DTSTART:20230326T020000
TZOFFSETFROM:+0100
TZOFFSETTO:+0200
RDATE:20240331T020000
END:DAYLIGHT
END:VTIMEZONE
BEGIN:VEVENT
UID:38333863-3735-4164-b730-636565373165
DTSTAMP:20260419T165711Z
CLASS:PUBLIC
DESCRIPTION:An der KinderUni machen sich neugierige Kinder zwischen 8 – 14 
 Jahren Gedanken über die Welt und erhalten Antworten von Leuten\, die dies
 e Dinge an der Uni studiert und erforscht haben.
DTSTART;TZID=Europe/Zurich:20230426T133000
DTEND:20230426T160000
GEO:+46.230499;+7.366615
LOCATION:Mediathek Wallis - Brig\, Schlossstrasse 30\, Brig
SEQUENCE:1
SUMMARY:Sphero BOLT der Kugel-Roboter – Programmieren leicht gemacht.
TRANSP:TRANSPARENT
URL:https://agenda.culturevalais.ch/fr/course/show/1323
END:VEVENT
END:VCALENDAR
