BEGIN:VCALENDAR
VERSION:2.0
PRODID:-//culturevalais.ch-1777129776//NONSGML kigkonsult.se iCalcreator 2.41.92//
CALSCALE:GREGORIAN
METHOD:PUBLISH
UID:61336462-3165-4461-b465-323530353339
X-WR-CALNAME:L'agenda culturel du Valais
X-WR-TIMEZONE:Europe/Zurich
BEGIN:VTIMEZONE
TZID:Europe/Zurich
TZUNTIL:20241027T010000Z
BEGIN:STANDARD
TZNAME:CET
DTSTART:20221030T030000
TZOFFSETFROM:+0200
TZOFFSETTO:+0100
RDATE:20231029T030000
END:STANDARD
BEGIN:DAYLIGHT
TZNAME:CEST
DTSTART:20220327T020000
TZOFFSETFROM:+0100
TZOFFSETTO:+0200
RDATE:20230326T020000
RDATE:20240331T020000
END:DAYLIGHT
END:VTIMEZONE
BEGIN:VEVENT
UID:61383063-6463-4363-b839-366234376434
DTSTAMP:20260425T150936Z
CLASS:PUBLIC
DESCRIPTION:En marge du Midi Théâtre « Les Bienfaits du Sommeil »\, cet ate
 lier d’écriture proposera d’explorer à travers la fiction notre rapport au
  sommeil. Quand vient la nuit\, notre perception du monde se transforme : 
 les images\, les sons\, les rêves et les cauchemars\, tout agit autrement 
 et fortement sur nous\, nos espoirs et nos peurs se déplacent\, et c’est c
 e que nous tenterons de mettre à l’épreuve des mots.
DTSTART;TZID=Europe/Zurich:20221115T180000
DTEND:20221115T200000
GEO:+46.252476;+6.946136
LOCATION:Maison des écrivaines\, des écrivains et des littératures\, Rue du
  château 7\, Monthey
SEQUENCE:1
SUMMARY:Atelier d’écriture théâtrale – Collaboration Théâtre du Crochetan
TRANSP:TRANSPARENT
URL:https://agenda.culturevalais.ch/fr/course/show/1360
END:VEVENT
END:VCALENDAR
