BEGIN:VCALENDAR
VERSION:2.0
PRODID:-//culturevalais.ch-1777137246//NONSGML kigkonsult.se iCalcreator 2.41.92//
CALSCALE:GREGORIAN
METHOD:PUBLISH
UID:32626161-6430-4939-a433-363636663835
X-WR-CALNAME:L'agenda culturel du Valais
X-WR-TIMEZONE:Europe/Zurich
BEGIN:VTIMEZONE
TZID:Europe/Zurich
TZUNTIL:20241027T010000Z
BEGIN:STANDARD
TZNAME:CET
DTSTART:20221030T030000
TZOFFSETFROM:+0200
TZOFFSETTO:+0100
RDATE:20231029T030000
END:STANDARD
BEGIN:DAYLIGHT
TZNAME:CEST
DTSTART:20220327T020000
TZOFFSETFROM:+0100
TZOFFSETTO:+0200
RDATE:20230326T020000
RDATE:20240331T020000
END:DAYLIGHT
END:VTIMEZONE
BEGIN:VEVENT
UID:31343935-3534-4731-a137-343436613837
DTSTAMP:20260425T171406Z
CLASS:PUBLIC
DESCRIPTION:avec Jordan Espagne
DTSTART;TZID=Europe/Zurich:20230211T140000
DTEND:20230211T160000
GEO:+46.216614;+7.004302
LOCATION:Médiathèque Valais - St-Maurice\, Avenue du Simplon 6\, St-Maurice
SEQUENCE:1
SUMMARY:Le Valais ouvert sur le monde
TRANSP:TRANSPARENT
URL:https://agenda.culturevalais.ch/fr/course/show/1365
END:VEVENT
END:VCALENDAR
