BEGIN:VCALENDAR
VERSION:2.0
PRODID:-//culturevalais.ch-1776609071//NONSGML kigkonsult.se iCalcreator 2.41.92//
CALSCALE:GREGORIAN
METHOD:PUBLISH
UID:31643439-3063-4534-b564-396430343862
X-WR-CALNAME:L'agenda culturel du Valais
X-WR-TIMEZONE:Europe/Zurich
BEGIN:VTIMEZONE
TZID:Europe/Zurich
TZUNTIL:20251026T010000Z
BEGIN:STANDARD
TZNAME:CET
DTSTART:20231029T030000
TZOFFSETFROM:+0200
TZOFFSETTO:+0100
RDATE:20241027T030000
END:STANDARD
BEGIN:DAYLIGHT
TZNAME:CEST
DTSTART:20230326T020000
TZOFFSETFROM:+0100
TZOFFSETTO:+0200
RDATE:20240331T020000
RDATE:20250330T020000
END:DAYLIGHT
END:VTIMEZONE
BEGIN:VEVENT
UID:37363335-3334-4439-b061-383563646262
DTSTAMP:20260419T143111Z
CLASS:PUBLIC
DESCRIPTION:D&eacute\;couvrez les ressources en ligne de la M&eacute\;diath
 &egrave\;que Valais\, tout en d&eacute\;gustant votre sandwich ! Lors de c
 et atelier gratuit\, vous apprendrez &agrave\; emprunter un e-book \, &agr
 ave\; l&#39\;ouvrir sur votre liseuse\, &agrave\; utiliser l&#39\;applicat
 ion Pressreader et autres applications de presse en ligne. L&rsquo\;atelie
 r sera suivi d&rsquo\;une s&eacute\;ance de questions/r&eacute\;ponses con
 cernant les services en ligne et leur utilisation sur vos appareils. Du ma
 t&eacute\;riel sera &eacute\;galement disponible pour celles et ceux qui s
 ouhaiteraient tester une liseuse ou un ipad. Pr&eacute\;-requis : venir av
 ec votre repas\, et &eacute\;ventuellement avec vos appareils de lecture (
 liseuse\, tablette\, ordinateur portable ou smartphone).
DTSTART;TZID=Europe/Zurich:20240226T121500
DTEND:20240226T141500
GEO:+46.231071;+7.355279
LOCATION:Médiathèque Valais - Sion\, Rue de Lausanne 45\, Sion
SEQUENCE:1
SUMMARY:Les midis du Numérique
TRANSP:TRANSPARENT
URL:https://agenda.culturevalais.ch/fr/course/show/1685
END:VEVENT
END:VCALENDAR
