BEGIN:VCALENDAR
VERSION:2.0
PRODID:-//culturevalais.ch-1777178719//NONSGML kigkonsult.se iCalcreator 2.41.92//
CALSCALE:GREGORIAN
METHOD:PUBLISH
UID:36643966-3366-4734-a137-663538613438
X-WR-CALNAME:L'agenda culturel du Valais
X-WR-TIMEZONE:Europe/Zurich
BEGIN:VTIMEZONE
TZID:Europe/Zurich
TZUNTIL:20260329T010000Z
BEGIN:STANDARD
TZNAME:CET
DTSTART:20231029T030000
TZOFFSETFROM:+0200
TZOFFSETTO:+0100
RDATE:20241027T030000
RDATE:20251026T030000
END:STANDARD
BEGIN:DAYLIGHT
TZNAME:CEST
DTSTART:20240331T020000
TZOFFSETFROM:+0100
TZOFFSETTO:+0200
RDATE:20250330T020000
END:DAYLIGHT
END:VTIMEZONE
BEGIN:VEVENT
UID:34313736-6439-4532-a632-373531323631
DTSTAMP:20260426T044519Z
CLASS:PUBLIC
DESCRIPTION:Venez vous plonger\, le temps d’une journée\, dans l’univers de
  FORMA et Marc Donnet-Monay. Les deux humoristes vous partagerons leurs ou
 tils et leurs manières de créer durant ce workshop d’écriture humoristique
 .
DTSTART;TZID=Europe/Zurich:20240615T093000
DTEND:20240615T160000
GEO:+48.834927;+2.32069
LOCATION:Maison des écrivaines\, des écrivains et des littératures\, Rue du
  château 7\, Monthey
SEQUENCE:1
SUMMARY:Workshop écriture humoristique avec Forma et Marc Donnet-Monay
TRANSP:TRANSPARENT
URL:https://agenda.culturevalais.ch/fr/course/show/1701
END:VEVENT
END:VCALENDAR
