BEGIN:VCALENDAR
VERSION:2.0
PRODID:-//culturevalais.ch-1776865151//NONSGML kigkonsult.se iCalcreator 2.41.92//
CALSCALE:GREGORIAN
METHOD:PUBLISH
UID:35613738-6233-4835-b765-376662323736
X-WR-CALNAME:L'agenda culturel du Valais
X-WR-TIMEZONE:Europe/Zurich
BEGIN:VTIMEZONE
TZID:Europe/Zurich
TZUNTIL:20260329T010000Z
BEGIN:STANDARD
TZNAME:CET
DTSTART:20231029T030000
TZOFFSETFROM:+0200
TZOFFSETTO:+0100
RDATE:20241027T030000
RDATE:20251026T030000
END:STANDARD
BEGIN:DAYLIGHT
TZNAME:CEST
DTSTART:20240331T020000
TZOFFSETFROM:+0100
TZOFFSETTO:+0200
RDATE:20250330T020000
END:DAYLIGHT
END:VTIMEZONE
BEGIN:VEVENT
UID:31393030-6564-4732-b538-313137303931
DTSTAMP:20260422T133911Z
CLASS:PUBLIC
DESCRIPTION:Musikalische Wanderungen im UNNERGOMS\n\nVon Kapelle zu Kapelle
 \n\nWir wollen beim Wandern in herrlicher Natur und Entdecken von Sakralba
 uten Körper\, Atem und Stimme in Einklang bringen und den Gesang als Ausdr
 ucksmittel dafür gebrauchen.\n\nDie Freude an der Bewegung\, an der Natur 
 und am gemeinsamen Singen von einfachen und auch mehrstimmigen Gesängen st
 eht im Vordergrund.\n\nUnsere täglichen Wanderungen dauern etwa 2 Stunden 
 reine Laufzeit und sind technisch anspruchslos und leichte Wanderungen. Ab
 ends warten eine gemütliche Unterkunft und kulinarische Highlights.\n\nZie
 lpublikum: Der Kurs richtet sich an Sangeslustige\, die gerne wandern.\n\n
 Notenkenntnisse nicht unbedingt erforderlich\, ev. Chorerfahrung wünschens
 wert
DTSTART;TZID=Europe/Zurich:20240704T090000
DTEND:20240704T170000
GEO:+46.428356;+8.157832
LOCATION:Schulhaus\, Bellwald
SEQUENCE:1
SUMMARY:GOMMER MUSIKFERIEN
TRANSP:TRANSPARENT
URL:https://agenda.culturevalais.ch/fr/course/show/1730
END:VEVENT
END:VCALENDAR
