BEGIN:VCALENDAR
VERSION:2.0
PRODID:-//culturevalais.ch-1777035076//NONSGML kigkonsult.se iCalcreator 2.41.92//
CALSCALE:GREGORIAN
METHOD:PUBLISH
UID:63623734-3630-4266-a666-613539366162
X-WR-CALNAME:L'agenda culturel du Valais
X-WR-TIMEZONE:Europe/Zurich
BEGIN:VTIMEZONE
TZID:Europe/Zurich
TZUNTIL:20260329T010000Z
BEGIN:STANDARD
TZNAME:CET
DTSTART:20231029T030000
TZOFFSETFROM:+0200
TZOFFSETTO:+0100
RDATE:20241027T030000
RDATE:20251026T030000
END:STANDARD
BEGIN:DAYLIGHT
TZNAME:CEST
DTSTART:20240331T020000
TZOFFSETFROM:+0100
TZOFFSETTO:+0200
RDATE:20250330T020000
END:DAYLIGHT
END:VTIMEZONE
BEGIN:VEVENT
UID:65353564-3163-4466-b362-646533353439
DTSTAMP:20260424T125116Z
CLASS:PUBLIC
DESCRIPTION:Visite de l'exposition et atelier créatif d'impression artisana
 le de tes propres billets.\n
DTSTART;TZID=Europe/Zurich:20240806T090000
DTEND:20240806T163000
GEO:+46.101738;+7.071907
LOCATION:Le Manoir de la Ville de Martigny\, 3\, Rue du Manoir\, Martigny
SEQUENCE:1
SUMMARY:Passeport vacances
TRANSP:TRANSPARENT
URL:https://agenda.culturevalais.ch/fr/course/show/1781
END:VEVENT
END:VCALENDAR
