BEGIN:VCALENDAR
VERSION:2.0
PRODID:-//culturevalais.ch-1776617831//NONSGML kigkonsult.se iCalcreator 2.41.92//
CALSCALE:GREGORIAN
METHOD:PUBLISH
UID:31343866-3463-4636-b031-313265316131
X-WR-CALNAME:L'agenda culturel du Valais
X-WR-TIMEZONE:Europe/Zurich
BEGIN:VTIMEZONE
TZID:Europe/Zurich
TZUNTIL:20261025T010000Z
BEGIN:STANDARD
TZNAME:CET
DTSTART:20241027T030000
TZOFFSETFROM:+0200
TZOFFSETTO:+0100
RDATE:20251026T030000
END:STANDARD
BEGIN:DAYLIGHT
TZNAME:CEST
DTSTART:20240331T020000
TZOFFSETFROM:+0100
TZOFFSETTO:+0200
RDATE:20250330T020000
RDATE:20260329T020000
END:DAYLIGHT
END:VTIMEZONE
BEGIN:VEVENT
UID:32316362-6131-4063-b264-613265363633
DTSTAMP:20260419T165711Z
CLASS:PUBLIC
DESCRIPTION:Venez découvrir la création audiovisuelle !
DTSTART;TZID=Europe/Zurich:20241123T133000
DTEND:20241123T163000
GEO:+46.231071;+7.355279
LOCATION:Médiathèque Valais - Sion\, Rue de Lausanne 45\, Sion
SEQUENCE:1
SUMMARY:Audio / Vidéo (dès 10 ans)
TRANSP:TRANSPARENT
URL:https://agenda.culturevalais.ch/fr/course/show/1853
END:VEVENT
END:VCALENDAR
