BEGIN:VCALENDAR
VERSION:2.0
PRODID:-//culturevalais.ch-1777136220//NONSGML kigkonsult.se iCalcreator 2.41.92//
CALSCALE:GREGORIAN
METHOD:PUBLISH
UID:37323832-3634-4230-a266-623433663032
X-WR-CALNAME:L'agenda culturel du Valais
X-WR-TIMEZONE:Europe/Zurich
BEGIN:VTIMEZONE
TZID:Europe/Zurich
TZUNTIL:20261025T010000Z
BEGIN:STANDARD
TZNAME:CET
DTSTART:20241027T030000
TZOFFSETFROM:+0200
TZOFFSETTO:+0100
RDATE:20251026T030000
END:STANDARD
BEGIN:DAYLIGHT
TZNAME:CEST
DTSTART:20240331T020000
TZOFFSETFROM:+0100
TZOFFSETTO:+0200
RDATE:20250330T020000
RDATE:20260329T020000
END:DAYLIGHT
END:VTIMEZONE
BEGIN:VEVENT
UID:33323663-3364-4831-a233-306637336465
DTSTAMP:20260425T165700Z
CLASS:PUBLIC
DESCRIPTION:Découvrez des outils d'intelligence artificielle (IA)\, tout en
  dégustant votre sandwich !
DTSTART;TZID=Europe/Zurich:20250121T121500
DTEND:20250121T141500
GEO:+46.231071;+7.355279
LOCATION:Médiathèque Valais - Sion\, Rue de Lausanne 45\, Sion
SEQUENCE:1
SUMMARY:L'intelligence artificielle
TRANSP:TRANSPARENT
URL:https://agenda.culturevalais.ch/fr/course/show/1857
END:VEVENT
END:VCALENDAR
