BEGIN:VCALENDAR
VERSION:2.0
PRODID:-//culturevalais.ch-1776993798//NONSGML kigkonsult.se iCalcreator 2.41.92//
CALSCALE:GREGORIAN
METHOD:PUBLISH
UID:39313833-3862-4233-b766-313961356539
X-WR-CALNAME:L'agenda culturel du Valais
X-WR-TIMEZONE:Europe/Zurich
BEGIN:VTIMEZONE
TZID:Europe/Zurich
TZUNTIL:20280326T010000Z
BEGIN:STANDARD
TZNAME:CET
DTSTART:20251026T030000
TZOFFSETFROM:+0200
TZOFFSETTO:+0100
RDATE:20261025T030000
RDATE:20271031T030000
END:STANDARD
BEGIN:DAYLIGHT
TZNAME:CEST
DTSTART:20260329T020000
TZOFFSETFROM:+0100
TZOFFSETTO:+0200
RDATE:20270328T020000
END:DAYLIGHT
END:VTIMEZONE
BEGIN:VEVENT
UID:65376661-3038-4661-a463-643332363837
DTSTAMP:20260424T012318Z
CLASS:PUBLIC
DESCRIPTION:Veux-tu devenir acteur ou actrice ?
DTSTART;TZID=Europe/Zurich:20260514T133000
DTEND:20260514T170000
GEO:+46.290909;+7.883444
LOCATION:Theater La Poste\, Théâtre La Poste\, La Poste-Platz 4\, Visp
SEQUENCE:1
SUMMARY:Theater Workshop
TRANSP:TRANSPARENT
URL:https://agenda.culturevalais.ch/fr/course/show/2148
END:VEVENT
END:VCALENDAR
