BEGIN:VCALENDAR
VERSION:2.0
PRODID:-//culturevalais.ch-1776988171//NONSGML kigkonsult.se iCalcreator 2.41.92//
CALSCALE:GREGORIAN
METHOD:PUBLISH
UID:38623836-6265-4462-b335-303065343339
X-WR-CALNAME:L'agenda culturel du Valais
X-WR-TIMEZONE:Europe/Zurich
BEGIN:VTIMEZONE
TZID:Europe/Zurich
TZUNTIL:20280326T010000Z
BEGIN:STANDARD
TZNAME:CET
DTSTART:20251026T030000
TZOFFSETFROM:+0200
TZOFFSETTO:+0100
RDATE:20261025T030000
RDATE:20271031T030000
END:STANDARD
BEGIN:DAYLIGHT
TZNAME:CEST
DTSTART:20260329T020000
TZOFFSETFROM:+0100
TZOFFSETTO:+0200
RDATE:20270328T020000
END:DAYLIGHT
END:VTIMEZONE
BEGIN:VEVENT
UID:36343962-3765-4433-b435-373533653566
DTSTAMP:20260423T234931Z
CLASS:PUBLIC
DESCRIPTION:Zusammen zu einem Klangk&ouml\;rper werden\n\nDie grossen Erfol
 ge der ersten drei Blasmusikwochen haben gezeigt\, dass dieser Mix von Fre
 izeit und Workshops\, die perfekte Work - Life Balance ist.\n\nAn einem de
 r sch&ouml\;nsten Orte der Schweiz - dem Kulturort Gr&auml\;chen!\n\nAls W
 orkshopteilnehmer*in werden die Musik nicht nur spielen\, sondern auch f&u
 uml\;hlen!\n\n&nbsp\;\n\nChristoph Walter - Gesamtleitung\n\nNelly Patty -
  Atem- und Stimmbildung\n\nSasha Abgottspon - tiefes Blech\n\nNicola Bernh
 ard - kleines Blech\n\nAmin Mokdad - Holz-Blasinstrumente\n\n&nbsp\;\n\nDa
 s Abschlusskonzert der Teilnehmenden findet am&nbsp\;Samstag\, 29. August 
 2026&nbsp\;am Nachmittag im Rahmen des zweiten\n\nMountain Music Festival 
 2026\, 28. &ndash\; 30. August 2026\n\nstatt. Der Dorfplatz Gr&auml\;chen 
 wird wieder zur B&uuml\;hne f&uuml\;r mitreissende Blasmusikmomente &ndash
 \; von traditionell bis innovativ\, von Herz zu Herz.
DTSTART;TZID=Europe/Zurich:20260826T000000
DTEND:20260826T000000
GEO:+46.193142;+7.837801
LOCATION:Dorf\, Grächen
SEQUENCE:1
SUMMARY:Blasmusik-Workshop mit Christoph Walter
TRANSP:TRANSPARENT
URL:https://agenda.culturevalais.ch/fr/course/show/2287
END:VEVENT
END:VCALENDAR
