BEGIN:VCALENDAR
VERSION:2.0
PRODID:-//culturevalais.ch-1776829708//NONSGML kigkonsult.se iCalcreator 2.41.92//
CALSCALE:GREGORIAN
METHOD:PUBLISH
UID:64626466-6134-4664-b665-366336313530
X-WR-CALNAME:L'agenda culturel du Valais
X-WR-TIMEZONE:Europe/Zurich
BEGIN:VTIMEZONE
TZID:Europe/Zurich
TZUNTIL:20280326T010000Z
BEGIN:STANDARD
TZNAME:CET
DTSTART:20251026T030000
TZOFFSETFROM:+0200
TZOFFSETTO:+0100
RDATE:20261025T030000
RDATE:20271031T030000
END:STANDARD
BEGIN:DAYLIGHT
TZNAME:CEST
DTSTART:20260329T020000
TZOFFSETFROM:+0100
TZOFFSETTO:+0200
RDATE:20270328T020000
END:DAYLIGHT
END:VTIMEZONE
BEGIN:VEVENT
UID:65626433-3534-4166-a439-333663666532
DTSTAMP:20260422T034828Z
CLASS:PUBLIC
DESCRIPTION:Une fois le monde de l’édition approché\, mille autres question
 s apparaissent.
DTSTART;TZID=Europe/Zurich:20260608T193000
DTEND:20260608T214500
GEO:+46.252422;+6.945977
LOCATION:MEEL\, Rue du château 7\, Monthey
SEQUENCE:1
SUMMARY:Le monde de l’édition cycle 2
TRANSP:TRANSPARENT
URL:https://agenda.culturevalais.ch/fr/course/show/2301
END:VEVENT
END:VCALENDAR
