BEGIN:VCALENDAR
VERSION:2.0
PRODID:-//culturevalais.ch-1776815410//NONSGML kigkonsult.se iCalcreator 2.41.92//
CALSCALE:GREGORIAN
METHOD:PUBLISH
UID:63363566-3466-4936-b562-646138616465
X-WR-CALNAME:L'agenda culturel du Valais
X-WR-TIMEZONE:Europe/Zurich
BEGIN:VTIMEZONE
TZID:Europe/Zurich
TZUNTIL:20271031T010000Z
BEGIN:STANDARD
TZNAME:CET
DTSTART:20251026T030000
TZOFFSETFROM:+0200
TZOFFSETTO:+0100
RDATE:20261025T030000
END:STANDARD
BEGIN:DAYLIGHT
TZNAME:CEST
DTSTART:20260329T020000
TZOFFSETFROM:+0100
TZOFFSETTO:+0200
RDATE:20270328T020000
END:DAYLIGHT
END:VTIMEZONE
BEGIN:VEVENT
UID:33316534-6435-4638-b037-383530313130
DTSTAMP:20260421T235010Z
CLASS:PUBLIC
DESCRIPTION:Ces ateliers créatifs ont pour objectif de découvrir et d'appre
 ndre le procédé du cyanotype\, l’un des plus anciens procédés photographiq
 ues (1842) qui permet d’obtenir d’excellents détails tout en possédant des
  qualités très picturales.
DTSTART;TZID=Europe/Zurich:20260426T100000
DTEND:20260426T160000
GEO:+46.287422;+7.551279
LOCATION:Atelier-galerie de la Zîle\, rue de l'île falcon 27\, Sierre
SEQUENCE:1
SUMMARY:Ateliers cyanotypes
TRANSP:TRANSPARENT
URL:https://agenda.culturevalais.ch/fr/course/show/2327
END:VEVENT
END:VCALENDAR
