BEGIN:VCALENDAR
VERSION:2.0
PRODID:-//culturevalais.ch-1776841222//NONSGML kigkonsult.se iCalcreator 2.41.92//
CALSCALE:GREGORIAN
METHOD:PUBLISH
UID:30623234-6464-4764-b663-623331666531
X-WR-CALNAME:L'agenda culturel du Valais
X-WR-TIMEZONE:Europe/Zurich
BEGIN:VTIMEZONE
TZID:Europe/Zurich
TZUNTIL:20280326T010000Z
BEGIN:STANDARD
TZNAME:CET
DTSTART:20251026T030000
TZOFFSETFROM:+0200
TZOFFSETTO:+0100
RDATE:20261025T030000
RDATE:20271031T030000
END:STANDARD
BEGIN:DAYLIGHT
TZNAME:CEST
DTSTART:20260329T020000
TZOFFSETFROM:+0100
TZOFFSETTO:+0200
RDATE:20270328T020000
END:DAYLIGHT
END:VTIMEZONE
BEGIN:VEVENT
UID:34643234-3631-4237-a633-323539323337
DTSTAMP:20260422T070022Z
CLASS:PUBLIC
DESCRIPTION:Ateliers de tissage avec l'artiste Marie Jambers\, permettant d
 e s'initier au tissage à la main de manière simple et ludique\, de créer d
 es liens et de faire ensemble.
DTSTART;TZID=Europe/Zurich:20260607T140000
DTEND:20260607T170000
GEO:+46.080109;+7.20889
LOCATION:Le Musée de Bagnes\, Musée de Bagnes\, Chemin de l'Eglise 13\, Le 
 Châble VS
SEQUENCE:1
SUMMARY:TISSER LE VIVANT
TRANSP:TRANSPARENT
URL:https://agenda.culturevalais.ch/fr/course/show/2330
END:VEVENT
END:VCALENDAR
