BEGIN:VCALENDAR
VERSION:2.0
PRODID:-//culturevalais.ch-1777125279//NONSGML kigkonsult.se iCalcreator 2.41.92//
CALSCALE:GREGORIAN
METHOD:PUBLISH
UID:39616462-6361-4135-a535-613530396533
X-WR-CALNAME:L'agenda culturel du Valais
X-WR-TIMEZONE:Europe/Zurich
BEGIN:VTIMEZONE
TZID:Europe/Zurich
TZUNTIL:20280326T010000Z
BEGIN:STANDARD
TZNAME:CET
DTSTART:20251026T030000
TZOFFSETFROM:+0200
TZOFFSETTO:+0100
RDATE:20261025T030000
RDATE:20271031T030000
END:STANDARD
BEGIN:DAYLIGHT
TZNAME:CEST
DTSTART:20260329T020000
TZOFFSETFROM:+0100
TZOFFSETTO:+0200
RDATE:20270328T020000
END:DAYLIGHT
END:VTIMEZONE
BEGIN:VEVENT
UID:37653836-3331-4834-b035-396563346262
DTSTAMP:20260425T135439Z
CLASS:PUBLIC
DESCRIPTION:Qui es-tu petit(e) que je sais être moi malgré le temps passé ?
  Où vit précisément en moi cet endroit qui te reconnaît ? Et qui peut-être
  s’attendrit en te regardant …
DTSTART;TZID=Europe/Zurich:20260507T193000
DTEND:20260507T220000
GEO:+46.252422;+6.945977
LOCATION:MEEL\, Rue du Château 7\, Monthey
SEQUENCE:1
SUMMARY:Ateliers du jeudi Écriture de la famille
TRANSP:TRANSPARENT
URL:https://agenda.culturevalais.ch/fr/course/show/2350
END:VEVENT
END:VCALENDAR
