BEGIN:VCALENDAR
VERSION:2.0
PRODID:-//culturevalais.ch-1776833771//NONSGML kigkonsult.se iCalcreator 2.41.92//
CALSCALE:GREGORIAN
METHOD:PUBLISH
UID:31346464-6162-4235-b531-343438396165
X-WR-CALNAME:L'agenda culturel du Valais
X-WR-TIMEZONE:Europe/Zurich
BEGIN:VTIMEZONE
TZID:Europe/Zurich
TZUNTIL:20280326T010000Z
BEGIN:STANDARD
TZNAME:CET
DTSTART:20251026T030000
TZOFFSETFROM:+0200
TZOFFSETTO:+0100
RDATE:20261025T030000
RDATE:20271031T030000
END:STANDARD
BEGIN:DAYLIGHT
TZNAME:CEST
DTSTART:20260329T020000
TZOFFSETFROM:+0100
TZOFFSETTO:+0200
RDATE:20270328T020000
END:DAYLIGHT
END:VTIMEZONE
BEGIN:VEVENT
UID:34333465-3737-4337-a261-383036313333
DTSTAMP:20260422T045611Z
CLASS:PUBLIC
DESCRIPTION:Qui est-on quand on écrit ? Qui devenons-nous lorsque nous écri
 vons dans ce lieu qui est un ailleurs ? Comment se mettre « à la place de 
 » et rendre compte du monde\, témoigner d’une réalité qui n’est pas forcém
 ent la nôtre ou différente ?
DTSTART;TZID=Europe/Zurich:20260530T093000
DTEND:20260530T160000
GEO:+46.252422;+6.945977
LOCATION:MEEL\, Rue du Château 7\, Monthey
SEQUENCE:1
SUMMARY:Masterclass avec Joseph Incardona
TRANSP:TRANSPARENT
URL:https://agenda.culturevalais.ch/fr/course/show/2351
END:VEVENT
END:VCALENDAR
