BEGIN:VCALENDAR
VERSION:2.0
PRODID:-//culturevalais.ch-1776612200//NONSGML kigkonsult.se iCalcreator 2.41.92//
CALSCALE:GREGORIAN
METHOD:PUBLISH
UID:31636363-3533-4266-b465-383439326430
X-WR-CALNAME:L'agenda culturel du Valais
X-WR-TIMEZONE:Europe/Zurich
BEGIN:VTIMEZONE
TZID:Europe/Zurich
TZUNTIL:20280326T010000Z
BEGIN:STANDARD
TZNAME:CET
DTSTART:20251026T030000
TZOFFSETFROM:+0200
TZOFFSETTO:+0100
RDATE:20261025T030000
RDATE:20271031T030000
END:STANDARD
BEGIN:DAYLIGHT
TZNAME:CEST
DTSTART:20260329T020000
TZOFFSETFROM:+0100
TZOFFSETTO:+0200
RDATE:20270328T020000
END:DAYLIGHT
END:VTIMEZONE
BEGIN:VEVENT
UID:37616132-3137-4762-a534-393364386135
DTSTAMP:20260419T152320Z
CLASS:PUBLIC
DESCRIPTION:Arbeitest du gerne mit deinen Händen? Scheust du dich nicht vor
  lehmigen Fingern? Hast du Lust\, dein Zuhause mit etwas Selbstgemachtem z
 u gestalten?
DTSTART;TZID=Europe/Zurich:20260709T090000
DTEND:20260709T170000
GEO:+46.495697;+8.279766
LOCATION:Feuerwehrlokal\, Baschiweg 29\, Geschinen
SEQUENCE:1
SUMMARY:Modellieren in Geschinen
TRANSP:TRANSPARENT
URL:https://agenda.culturevalais.ch/fr/course/show/2359
END:VEVENT
END:VCALENDAR
