BEGIN:VCALENDAR
VERSION:2.0
PRODID:-//culturevalais.ch-1776664017//NONSGML kigkonsult.se iCalcreator 2.41.92//
CALSCALE:GREGORIAN
METHOD:PUBLISH
UID:39343462-6438-4561-b137-383965626133
X-WR-CALNAME:L'agenda culturel du Valais
X-WR-TIMEZONE:Europe/Zurich
BEGIN:VTIMEZONE
TZID:Europe/Zurich
TZUNTIL:20280326T010000Z
BEGIN:STANDARD
TZNAME:CET
DTSTART:20251026T030000
TZOFFSETFROM:+0200
TZOFFSETTO:+0100
RDATE:20261025T030000
RDATE:20271031T030000
END:STANDARD
BEGIN:DAYLIGHT
TZNAME:CEST
DTSTART:20260329T020000
TZOFFSETFROM:+0100
TZOFFSETTO:+0200
RDATE:20270328T020000
END:DAYLIGHT
END:VTIMEZONE
BEGIN:VEVENT
UID:39303830-3630-4262-b762-376234323630
DTSTAMP:20260420T054657Z
CLASS:PUBLIC
DESCRIPTION:Jolie manière de parler de petites et grandes histoires
DTSTART;TZID=Europe/Zurich:20260506T193000
DTEND:20260506T210000
GEO:+46.252422;+6.945977
LOCATION:MEEL\, Rue du Château 7\, Monthey
SEQUENCE:1
SUMMARY:Conférence-rencontre: Où commence la fiction\, où s’arrête l’histoi
 re ?
TRANSP:TRANSPARENT
URL:https://agenda.culturevalais.ch/fr/course/show/2361
END:VEVENT
END:VCALENDAR
