BEGIN:VCALENDAR
VERSION:2.0
PRODID:-//culturevalais.ch-1776954315//NONSGML kigkonsult.se iCalcreator 2.41.92//
CALSCALE:GREGORIAN
METHOD:PUBLISH
UID:39326362-3037-4565-b463-323234643335
X-WR-CALNAME:L'agenda culturel du Valais
X-WR-TIMEZONE:Europe/Zurich
BEGIN:VTIMEZONE
TZID:Europe/Zurich
TZUNTIL:20280326T010000Z
BEGIN:STANDARD
TZNAME:CET
DTSTART:20251026T030000
TZOFFSETFROM:+0200
TZOFFSETTO:+0100
RDATE:20261025T030000
RDATE:20271031T030000
END:STANDARD
BEGIN:DAYLIGHT
TZNAME:CEST
DTSTART:20260329T020000
TZOFFSETFROM:+0100
TZOFFSETTO:+0200
RDATE:20270328T020000
END:DAYLIGHT
END:VTIMEZONE
BEGIN:VEVENT
UID:64326433-3034-4633-a437-303937356438
DTSTAMP:20260423T142515Z
CLASS:PUBLIC
DESCRIPTION:In der Gruppe und in pers&ouml\;nlichen Einzellektionen n&auml\
 ;hern Sie sich\, begleitet von der langj&auml\;hrig erfahrenen Orgelp&auml
 \;dagogin Ursula Heim\, in fr&ouml\;hlicher Atmosph&auml\;re Ihrem Traum\,
  dies auf der einmaligen historischen Orgel von M&uuml\;nster/VS. Nebenbei
  erfahren Sie viel Spannendes rund um Orgelbau\, Orgelspiel und Orgelmusik
 .
DTSTART;TZID=Europe/Zurich:20260705T180000
DTEND:20260705T213000
GEO:+46.475155;+8.256984
LOCATION:Pfarrkirche Mariae Himmelfahrt\, Furkastrasse\, Münster
SEQUENCE:1
SUMMARY:'Wunschtraum Orgelspiel?'
TRANSP:TRANSPARENT
URL:https://agenda.culturevalais.ch/fr/course/show/2372
END:VEVENT
END:VCALENDAR
