BEGIN:VCALENDAR
VERSION:2.0
PRODID:-//culturevalais.ch-1777155778//NONSGML kigkonsult.se iCalcreator 2.41.92//
CALSCALE:GREGORIAN
METHOD:PUBLISH
UID:65646561-6434-4338-b235-656330643233
X-WR-CALNAME:L'agenda culturel du Valais
X-WR-TIMEZONE:Europe/Zurich
BEGIN:VTIMEZONE
TZID:Europe/Zurich
TZUNTIL:20280326T010000Z
BEGIN:STANDARD
TZNAME:CET
DTSTART:20251026T030000
TZOFFSETFROM:+0200
TZOFFSETTO:+0100
RDATE:20261025T030000
RDATE:20271031T030000
END:STANDARD
BEGIN:DAYLIGHT
TZNAME:CEST
DTSTART:20260329T020000
TZOFFSETFROM:+0100
TZOFFSETTO:+0200
RDATE:20270328T020000
END:DAYLIGHT
END:VTIMEZONE
BEGIN:VEVENT
UID:30336436-3833-4065-b938-333461333630
DTSTAMP:20260425T222258Z
CLASS:PUBLIC
DESCRIPTION:Lernen Sie unsere E-Books\, elektronischen H&ouml\;rb&uuml\;che
 r\, Zeitschriften und unseren Video-On-Demand-Dienst kennen. Bringen Sie I
 hr Smartphone\, Tablet oder&nbsp\;Tolino vorbei. Unsere Mitarbeiter helfen
  Ihnen bei der Einrichtung der E-Medien!&nbsp\;\n\nMontag\, Dienstag\, Don
 nerstag\, Freitag\n15.00 &ndash\; 17.00 Uhr\n\nMediathek Wallis &ndash\; B
 rig\nMit und ohne Anmeldung!\nmediathek-wallis-brig@admin.vs.ch
DTSTART;TZID=Europe/Zurich:20260619T150000
DTEND:20260619T170000
GEO:+46.315899;+7.987821
LOCATION:Mediathek Wallis - Brig\, Schlossstrasse 30\, Brig
SEQUENCE:1
SUMMARY:Digitale Woche
TRANSP:TRANSPARENT
URL:https://agenda.culturevalais.ch/fr/course/show/2406
END:VEVENT
END:VCALENDAR
